BEGIN:VCALENDAR
VERSION:2.0
PRODID:spatie/icalendar-generator
BEGIN:VEVENT
UID:ae80a73f-1888-4fb6-845c-c35bc37736ca
DTSTAMP:20260421T201500Z
DTSTART:20260507T000000
DTEND:20260507T235959
SUMMARY:National Day of Prayer
END:VEVENT
END:VCALENDAR